BEGIN:VCALENDAR
VERSION:2.0
PRODID:-// - ECPv6.15.20//NONSGML v1.0//EN
CALSCALE:GREGORIAN
METHOD:PUBLISH
X-ORIGINAL-URL:https://mothersofangelbabies.org
X-WR-CALDESC:Events for 
REFRESH-INTERVAL;VALUE=DURATION:PT1H
X-Robots-Tag:noindex
X-PUBLISHED-TTL:PT1H
BEGIN:VTIMEZONE
TZID:America/Chicago
BEGIN:DAYLIGHT
TZOFFSETFROM:-0600
TZOFFSETTO:-0500
TZNAME:CDT
DTSTART:20220313T080000
END:DAYLIGHT
BEGIN:STANDARD
TZOFFSETFROM:-0500
TZOFFSETTO:-0600
TZNAME:CST
DTSTART:20221106T070000
END:STANDARD
BEGIN:DAYLIGHT
TZOFFSETFROM:-0600
TZOFFSETTO:-0500
TZNAME:CDT
DTSTART:20230312T080000
END:DAYLIGHT
BEGIN:STANDARD
TZOFFSETFROM:-0500
TZOFFSETTO:-0600
TZNAME:CST
DTSTART:20231105T070000
END:STANDARD
BEGIN:DAYLIGHT
TZOFFSETFROM:-0600
TZOFFSETTO:-0500
TZNAME:CDT
DTSTART:20240310T080000
END:DAYLIGHT
BEGIN:STANDARD
TZOFFSETFROM:-0500
TZOFFSETTO:-0600
TZNAME:CST
DTSTART:20241103T070000
END:STANDARD
BEGIN:DAYLIGHT
TZOFFSETFROM:-0600
TZOFFSETTO:-0500
TZNAME:CDT
DTSTART:20250309T080000
END:DAYLIGHT
BEGIN:STANDARD
TZOFFSETFROM:-0500
TZOFFSETTO:-0600
TZNAME:CST
DTSTART:20251102T070000
END:STANDARD
END:VTIMEZONE
BEGIN:VEVENT
DTSTART;TZID=America/Chicago:20240525T080000
DTEND;TZID=America/Chicago:20240525T130000
DTSTAMP:20260420T130159
CREATED:20230606T142516Z
LAST-MODIFIED:20230606T172047Z
UID:1286-1716624000-1716642000@mothersofangelbabies.org
SUMMARY:2024 Angel Babies 5k
DESCRIPTION:
URL:https://mothersofangelbabies.org/event/2024-angel-babies/
LOCATION:Two Good Park\, 204 Anna St\, Preston\, IA\, 52069\, United States
ORGANIZER;CN="Mothers of Angel Babies":MAILTO:angelbabies5k@gmail.com
END:VEVENT
BEGIN:VEVENT
DTSTART;TZID=America/Chicago:20230715T100000
DTEND;TZID=America/Chicago:20230715T110000
DTSTAMP:20260420T130159
CREATED:20230619T134410Z
LAST-MODIFIED:20230620T115922Z
UID:1339-1689415200-1689418800@mothersofangelbabies.org
SUMMARY:Summer Support Group
DESCRIPTION:This support group will be painting signs to donate to the bereavement suite at Genesis. When signing up please inform us on which sign you would like to paint. \n  \n                \n“My Baby You’ll Be”                                                    “In Heaven”                                                 “You Are My Sunshine” \n  \n\n← Back Thank you for your response. ✨\n\n\n					\n						\n							\n							\n						\n						\n						\n						\n						\n							\n								\n									\n										\n										\n									\n									\n										\n										\n									\n								\n							\n						\n						\n							\n								\n									\n									\n										\n									\n									\n									\n								\n							\n						\n					\n				\n\n\n\nName(required)\n\n \n			\n				\n					\n						\n						\n						\n					\n				\n				\n			 \n	\n\n\nEmail(required)\n\n \n			\n				\n					\n						\n						\n						\n					\n				\n				\n			 \n	\n\n\nMessage\n\n \n			\n				\n					\n						\n						\n						\n					\n				\n				\n			\n	\n	\n\n				\n					\n				\n						Submit		\n		\n		\n	 \nΔ
URL:https://mothersofangelbabies.org/event/summer-support-group/
LOCATION:Two Good Park\, 204 Anna St\, Preston\, IA\, 52069\, United States
ATTACH;FMTTYPE=image/png:https://mothersofangelbabies.org/wp-content/uploads/2023/06/A-sweet-celebration-popsicle-summer-birthday-party-invitation.png
ORGANIZER;CN="Mothers of Angel Babies":MAILTO:angelbabies5k@gmail.com
END:VEVENT
END:VCALENDAR